BEGIN:VCALENDAR
VERSION:2.0
PRODID:-//SVP Wahlkreis Entlebuch //NONSGML Events //EN
CALSCALE:GREGORIAN
X-WR-CALNAME:SVP Wahlkreis Entlebuch
BEGIN:VEVENT
CREATED:20240919T052110Z
UID:28863
DTEND:20250319T190000
DTSTART:20250319T140000
DTSTAMP:20260423T093423Z
LOCATION:Entlebuch
DESCRIPTION:
SUMMARY:Kant. Fraktionssitzung
ORGANIZER:
URL;VALUE=URI:https://www.svp-wahlkreisentlebuch.ch/termine/kant-fraktionssitzung-40/
TRANSP:OPAQUE
END:VEVENT
END:VCALENDAR
