BEGIN:VCALENDAR
VERSION:2.0
PRODID:-//SVP Wahlkreis Entlebuch //NONSGML Events //EN
CALSCALE:GREGORIAN
X-WR-CALNAME:SVP Wahlkreis Entlebuch
BEGIN:VEVENT
CREATED:20240919T052110Z
UID:28844
DTEND:20250125T153000
DTSTART:20250125T100000
DTSTAMP:20260423T085310Z
LOCATION:Balsthal SO
DESCRIPTION:
SUMMARY:Eidg.Delegiertenversammlung
ORGANIZER:
URL;VALUE=URI:https://www.svp-wahlkreisentlebuch.ch/termine/eidg-delegiertenversammlung-23/
TRANSP:OPAQUE
END:VEVENT
END:VCALENDAR
