BEGIN:VCALENDAR
VERSION:2.0
PRODID:-//SVP Wahlkreis Entlebuch //NONSGML Events //EN
CALSCALE:GREGORIAN
X-WR-CALNAME:SVP Wahlkreis Entlebuch
BEGIN:VEVENT
CREATED:20221006T043144Z
UID:24498
DTEND:20231026T220000
DTSTART:20231026T180000
DTSTAMP:20260420T131934Z
LOCATION:Stadt Luzern
DESCRIPTION:
SUMMARY:Grossstadtratssitzung Luzern
ORGANIZER:
URL;VALUE=URI:https://www.svp-wahlkreisentlebuch.ch/termine/grossstadtratssitzung-luzern-42/
TRANSP:OPAQUE
END:VEVENT
END:VCALENDAR
